Workbook

Sheet Total Budget
A1: Option 1: Tehran and Karaj 2 Locations - 30 days
A2: Row | B2: Title | C2: KPI (Million Impressions) | D2: Budget (IRT | Million)
A3: 1 | B3: Mall Activation - Tehran & Karaj 2 Locations | D3: ='BTL Idea 3'!F15 -> 4996
A4: 2 | B4: Instagram Campaigns | C4: ='Instagram Campaigns'!F10 -> 16.5 | D4: ='Instagram Campaigns'!G10 -> 2810
A5: 3 | B5: Video Boosting | C5: ='Video Boosting'!F5 -> 19 | D5: ='Video Boosting'!G5 -> 1540
A6: 4 | B6: Content | D6: =Content!D9 -> 1036
A7: Sum | C7: =SUM(C3:C6) -> 35.5 | D7: =SUM(D3:D6) -> 10382
A11: Option 2: Tehran and Karaj 6 Locations - 42 days
A12: Row | B12: Title | C12: KPI (Million Impressions) | D12: Budget (IRT | Million)
A13: 1 | B13: Mall Activation - Tehran & Karaj 6 Locations | D13: ='BTL Idea 3'!E15 -> 6603
A14: 2 | B14: Instagram Campaigns | C14: ='Instagram Campaigns'!F10 -> 16.5 | D14: ='Instagram Campaigns'!G10 -> 2810
A15: 3 | B15: Video Boosting | C15: ='Video Boosting'!F5 -> 19 | D15: ='Video Boosting'!G5 -> 1540
A16: 4 | B16: Content | D16: =Content!D9 -> 1036
A17: Sum | C17: =SUM(C13:C16) -> 35.5 | D17: =SUM(D13:D16) -> 11989
A21: Option 3: All Locations - 105 days
A22: Row | B22: Title | C22: KPI (Million Impressions) | D22: Budget (IRT | Million)
A23: 1 | B23: Mall Activation - All Locations | D23: ='BTL Idea 3'!D15 -> 11168
A24: 2 | B24: Instagram Campaigns | C24: ='Instagram Campaigns'!F10 -> 16.5 | D24: ='Instagram Campaigns'!G10 -> 2810
A25: 3 | B25: Video Boosting | C25: ='Video Boosting'!F5 -> 19 | D25: ='Video Boosting'!G5 -> 1540
A26: 4 | B26: Content | D26: =Content!D9 -> 1036
A27: Sum | C27: =SUM(C23:C26) -> 35.5 | D27: =SUM(D23:D26) -> 16554

Sheet BTL Idea 3
A1: Lux Immersive Booth Budget Allocation (Video Mapping) | C1: Qn | D1: Options
D2: All Locations (105 Days Total) | E2: 6 Locations (42 Day Total) | F2: 2 Locations (30 Days Total)
A3: Booth/Mall Activation | B3: Décor | C3: Design & Execution + Roof & Floor Mirror + Entrance + Shelf | D3: 450 | E3: 450 | F3: 450
B4: Immersive Decor Addon | C4: Full Equipment 4Wall Video Mapping (Projection) + Audio | D4: 2000 | E4: 1500 | F4: 1160
B5: Immersive Design and Implementation | C5: 4 Scenario (360 Video + Audio Design and Execution) - For 3 Product Category + 1 Variation this Campaing Hero Product | D5: 1000 | E5: 1000 | F5: 1000
B6: TouchPanel | C6: Touchpanel for Audiences for Downloading Content Via NFC or QR Code & Controlling Scenarios | D6: 200 | E6: 200 | F6: 200
B7: 360 Camera | C7: 360 Arm Camera Implementation, Integration and Installation | D7: 440 | E7: 440 | F7: 440
A8: Journey | B8: Transportation | C8: Truck Tranportaion only for booth | D8: 705 | E8: 151 | F8: 30
B9: Documentation (Video + Photoshoot) | C9: 1 Session Each Location + Final Edit | D9: 460 | E9: 120 | F9: 63
B10: Rental | C10: Mall Rental In Total | D10: 1815 | E10: 876 | F10: 440
B11: Renewal & Packing | C11: Renewal of booth need based on the number of times it needs to be dismantled & Packing (Such as painting & carpet, bubble wrap, etc) | D11: 450 | E11: 125 | F11: 38
B12: Setup, Maintenance and Contingency | C12: Teams, Rental & Transportaion | D12: 1025 | E12: 240 | F12: 38
B13: Gift Bag (Can be provided by the client) | C13: Each 7 days 1400 Branded Bags | D13: 390 | E13: 156 | F13: 105
A14: Art & Management | C14: 0.25 | D14: 2233 | E14: 1345 | F14: 1032
A15: Sum | D15: =SUM(D3:D14) -> 11168 | E15: =SUM(E3:E14) -> 6603 | F15: =SUM(F3:F14) -> 4996

Sheet BTL Cost Breakdown
A1: Location Number | B1: Location Name | C1: Root | D1: Transportation | E1: Gift Banded Bag (7Days*200) | F1: Documentation (Video + Photoshoot) | G1: Idea 3 - Immersive Booth | K1: Location Only Tehran & Karaj | L1: Root | M1: Transportation | N1: Gift Banded Bag (7Days*200) | O1: Documentation (Video + Photoshoot) | P1: Idea 3 - Immersive Booth
G2: Rental 7Days | H2: Renewal & Packing | I2: Setup & Contigency | P2: Rental 7Days | Q2: Renewal & Packing | R2: Setup & Contigency
A3: 1 | B3: Tehran - Hamila S | C3: 1 | D3: 0 | E3: 26 | F3: 20 | G3: 156 | H3: 0 | I3: 0 | K3: Tehran - Hamila S | L3: 1 | M3: 0 | N3: 26 | O3: 20 | P3: 156 | Q3: 0 | R3: 0
A4: 2 | B4: Tonekabon - Center Khazar M | C4: 1.2 | D4: 45 | E4: 26 | F4: 35 | G4: 94 | H4: 25 | I4: 75 | K4: Tehran - MegaMal M | L4: 1.2 | M4: 25 | N4: 26 | O4: 20 | P4: 156 | Q4: 25 | R4: 40
A5: 3 | B5: Amol- Exin M | C5: 2.3 | D5: 35 | E5: 26 | F5: 35 | G5: 94 | H5: 25 | I5: 75 | K5: Tehran - Saba S | L5: 2.3 | M5: 25 | N5: 26 | O5: 20 | P5: 156 | Q5: 25 | R5: 40
A6: 4 | B6: Mashhad - Hashemi M | C6: 3.4 | D6: 55 | E6: 26 | F6: 40 | G6: 94 | H6: 50 | I6: 100 | K6: Tehran - Eram S | L6: 3.4 | M6: 25 | N6: 26 | O6: 20 | P6: 220 | Q6: 25 | R6: 40
A7: 5 | B7: Mashhad - Paj M | C7: 4.5 | D7: 25 | E7: 26 | F7: 40 | G7: 94 | H7: 25 | I7: 100 | K7: Karaj - Kiamaal M | L7: 4.5 | M7: 38 | N7: 26 | O7: 20 | P7: 94 | Q7: 25 | R7: 60
A8: 6 | B8: Tehran - MegaMal M | C8: 5.6 | D8: 70 | E8: 26 | F8: 30 | G8: 156 | H8: 25 | I8: 62 | K8: Karaj - EcoMal S | L8: 5.6 | M8: 38 | N8: 26 | O8: 20 | P8: 94 | Q8: 25 | R8: 60
A9: 7 | B9: Esfahan - Mosala M | C9: 6.7 | D9: 45 | E9: 26 | F9: 30 | G9: 125 | H9: 25 | I9: 62 | K9: Sum | M9: Transportation | N9: Gift Banded Bag (7Days*200) | O9: Documentation (Video + Photoshoot) | P9: Rental | Q9: Dismantling & Packing | R9: Setup
A10: 8 | B10: Esfahan - City Center S | C10: 7.8 | D10: 30 | E10: 26 | F10: 30 | G10: 125 | H10: 25 | I10: 62 | M10: =SUM(M3:M8) -> 151 | N10: =SUM(N3:N8) -> 156 | O10: =SUM(O3:O8) -> 120 | P10: =SUM(P3:P8) -> 876 | Q10: =SUM(Q3:Q8) -> 125 | R10: =SUM(R3:R8) -> 240
A11: 9 | B11: Shiraz - KhalijFars S | C11: 8.9 | D11: 50 | E11: 26 | F11: 30 | G11: 94 | H11: 50 | I11: 87
A12: 10 | B12: Ahwaz - Park Center | C12: 9.1 | D12: 70 | E12: 26 | F12: 45 | G12: 94 | H12: 50 | I12: 62
A13: 11 | B13: Tehran - Saba S | C13: 10.11 | D13: 70 | E13: 26 | F13: 20 | G13: 156 | H13: 25 | I13: 62
A14: 12 | B14: Karaj - Kiamaal M | C14: 11.12 | D14: 35 | E14: 26 | F14: 20 | G14: 94 | H14: 50 | I14: 62
A15: 13 | B15: Tabriz - Atlas M | C15: 12.13 | D15: 70 | E15: 26 | F15: 45 | G15: 125 | H15: 25 | I15: 87
A16: 14 | B16: Karaj - EcoMal S | C16: 13.14 | D16: 70 | E16: 26 | F16: 20 | G16: 94 | H16: 25 | I16: 62
A17: 15 | B17: Tehran - Eram S | C17: 14.15 | D17: 35 | E17: 26 | F17: 20 | G17: 220 | H17: 25 | I17: 62
A18: Sum | D18: Transportation | E18: Gift Banded Bag (7Days*200) | F18: Documentation (Video + Photoshoot) | G18: Rental | H18: Dismantlin & Packing | I18: Setup
D19: =SUM(D3:D18) -> 705 | E19: =SUM(E3:E18) -> 390 | F19: =SUM(F3:F18) -> 460 | G19: =SUM(G3:G18) -> 1815 | H19: =SUM(H3:H18) -> 450 | I19: =SUM(I3:I17) -> 1020

Sheet Instagram Campaigns
A1: Activity | B1: Task | C1: Platform | D1: Title | E1: Description | F1: KPI | Million | G1: Budget (IRT)
A2: Influencer MKT | B2: Digital Activity related to Mall activation | C2: IG | D2: Boosting Mall Activation | E2: Cooperating with 5-10 influencers for boosting Mall Activation | F2: 1.5 | G2: 500
A3: Display Ads | B3: Digital Activity related to Mall activation | C3: IG | D3: Boosting Mall Activation | E3: Boosting mall activation content in targeted pages as post to create awareness | F3: 2.5 | G3: 250
B4: Digital Activity related to Mall activation | C4: IG | D4: Boosting Mall Activation | E4: Boosting mall activation content in targeted pages as story to create awareness | F4: 2 | G4: 200
A5: Mini Campaigns | B5: IG maintenance and page engagement to boost brand and Mall activation content | C5: IG | D5: IG maintenance and Page engagement 1st mth | E5: Cooperating with 5-10 influencers for page engagement and boosting related content | F5: 1.5 | G5: 360
B6: IG maintenance and page engagement to boost brand and Mall activation content | C6: IG | D6: IG maintenance and Page engagement 2nd mth | E6: Cooperating with 5-10 influencers for page engagement and boosting related content | F6: 1.5 | G6: 420
B7: IG maintenance and page engagement to boost brand and Mall activation content | C7: IG | D7: IG maintenance and Page engagement 3rd mth | E7: Cooperating with 5-10 influencers for page engagement and boosting related content | F7: 1.5 | G7: 480
A8: Display Ads | B8: IG maintenance and page engagement to boost brand and Mall activation content | C8: IG | D8: Boosting Brand and Mall Activation Content | E8: Boosting brand and mall activation content in targeted pages as post to create awareness | F8: 3 | G8: 300
B9: IG maintenance and page engagement to boost brand and Mall activation content | C9: IG | D9: Boosting Brand and Mall Activation Content | E9: Boosting brand and mall activation content in targeted pages as story to create awareness | F9: 3 | G9: 300
A10: Sum | F10: =SUM(F2:F9) -> 16.5 | G10: =SUM(G2:G9) -> 2810

Sheet Video Boosting
A1: Activity | B1: Task | C1: Platform | D1: Title | E1: Description | F1: KPI | Million | G1: Budget (IRT)
A2: Display Ads | B2: Video Boosting | C2: IG | D2: Digital Media for boosting Lux Video | E2: Add to Story IG Pages + CTA | F2: 5 | G2: 500
E3: Posting the video in targeted IG pages | F3: 8 | G3: 800
C4: Telegram | E4: Boosting Lux Video in specified channels with Lux audience + CTA | F4: 6 | G4: 240
A5: Sum | F5: =SUM(F2:F4) -> 19 | G5: =SUM(G2:G4) -> 1540

Sheet Content
A1: Row | B1: Title | C1: Num | D1: Budget (IRT | Million)
A2: 1 | B2: Reels | C2: 6 | D2: 385
A3: 2 | B3: Photoshoot/ Photomontage | C3: 15 | D3: Included In mall activation table
A4: 3 | B4: Gif Videos | C4: 5 | D4: 63
A5: 4 | B5: Motion Graphics 3D (15 Seconds) | C5: 3 | D5: 300
A6: 5 | B6: Photomontage (Product) | C6: 12 | D6: 48
A7: 6 | B7: Motion Graphics | C7: 6 | D7: 240
A8: 7 | B8: Story (Edited Photos from Mall Activation) | C8: 150 | D8: Included In mall activation table
A9: Sum | C9: 195 | D9: =SUM(D2:D8) -> 1036
